BEGIN:VCALENDAR
VERSION:2.0
PRODID:-//SPD Stadtverband Minden - ECPv6.15.20//NONSGML v1.0//EN
CALSCALE:GREGORIAN
METHOD:PUBLISH
X-WR-CALNAME:SPD Stadtverband Minden
X-ORIGINAL-URL:https://spd-stadtverband-minden.de
X-WR-CALDESC:Veranstaltungen für SPD Stadtverband Minden
REFRESH-INTERVAL;VALUE=DURATION:PT1H
X-Robots-Tag:noindex
X-PUBLISHED-TTL:PT1H
BEGIN:VTIMEZONE
TZID:Europe/Berlin
BEGIN:DAYLIGHT
TZOFFSETFROM:+0100
TZOFFSETTO:+0200
TZNAME:CEST
DTSTART:20250330T010000
END:DAYLIGHT
BEGIN:STANDARD
TZOFFSETFROM:+0200
TZOFFSETTO:+0100
TZNAME:CET
DTSTART:20251026T010000
END:STANDARD
BEGIN:DAYLIGHT
TZOFFSETFROM:+0100
TZOFFSETTO:+0200
TZNAME:CEST
DTSTART:20260329T010000
END:DAYLIGHT
BEGIN:STANDARD
TZOFFSETFROM:+0200
TZOFFSETTO:+0100
TZNAME:CET
DTSTART:20261025T010000
END:STANDARD
BEGIN:DAYLIGHT
TZOFFSETFROM:+0100
TZOFFSETTO:+0200
TZNAME:CEST
DTSTART:20270328T010000
END:DAYLIGHT
BEGIN:STANDARD
TZOFFSETFROM:+0200
TZOFFSETTO:+0100
TZNAME:CET
DTSTART:20271031T010000
END:STANDARD
END:VTIMEZONE
BEGIN:VEVENT
DTSTART;VALUE=DATE:20260424
DTEND;VALUE=DATE:20260425
DTSTAMP:20260419T155954
CREATED:20260325T114527Z
LAST-MODIFIED:20260325T114527Z
UID:17058-1776988800-1777075199@spd-stadtverband-minden.de
SUMMARY:Kreisdelegiertenkonferenz
DESCRIPTION:
URL:https://spd-stadtverband-minden.de/event/kreisdelegiertenkonferenz/
CATEGORIES:SPD
END:VEVENT
BEGIN:VEVENT
DTSTART;TZID=Europe/Berlin:20260521T193000
DTEND;TZID=Europe/Berlin:20260521T220000
DTSTAMP:20260419T155954
CREATED:20260325T115018Z
LAST-MODIFIED:20260325T120958Z
UID:17061-1779391800-1779400800@spd-stadtverband-minden.de
SUMMARY:Vorstand (SPD Königstor)
DESCRIPTION:Die Vorstandsitzungen sind für alle Mitglieder offen. Der Ort wird mit der Einladung mitgeteilt und kann beim Vorstand nachgefragt werden.
URL:https://spd-stadtverband-minden.de/event/vorstand-2/
CATEGORIES:Königstor
END:VEVENT
BEGIN:VEVENT
DTSTART;TZID=Europe/Berlin:20260618T193000
DTEND;TZID=Europe/Berlin:20260618T220000
DTSTAMP:20260419T155954
CREATED:20260325T115208Z
LAST-MODIFIED:20260325T120950Z
UID:17066-1781811000-1781820000@spd-stadtverband-minden.de
SUMMARY:Vorstand (SPD Königstor)
DESCRIPTION:Die Vorstandsitzungen sind für alle Mitglieder offen. Der Ort wird mit der Einladung mitgeteilt und kann beim Vorstand nachgefragt werden.
URL:https://spd-stadtverband-minden.de/event/vorstand-3/
CATEGORIES:Königstor
END:VEVENT
BEGIN:VEVENT
DTSTART;TZID=Europe/Berlin:20260716T193000
DTEND;TZID=Europe/Berlin:20260716T220000
DTSTAMP:20260419T155954
CREATED:20260325T115301Z
LAST-MODIFIED:20260325T120943Z
UID:17069-1784230200-1784239200@spd-stadtverband-minden.de
SUMMARY:Vorstand (SPD Königstor)
DESCRIPTION:Die Vorstandsitzungen sind für alle Mitglieder offen. Der Ort wird mit der Einladung mitgeteilt und kann beim Vorstand nachgefragt werden.
URL:https://spd-stadtverband-minden.de/event/vorstand-4/
CATEGORIES:Königstor
END:VEVENT
BEGIN:VEVENT
DTSTART;TZID=Europe/Berlin:20260910T193000
DTEND;TZID=Europe/Berlin:20260910T220000
DTSTAMP:20260419T155954
CREATED:20260325T115417Z
LAST-MODIFIED:20260325T120935Z
UID:17073-1789068600-1789077600@spd-stadtverband-minden.de
SUMMARY:Vorstand (SPD Königstor)
DESCRIPTION:Die Vorstandsitzungen sind für alle Mitglieder offen. Der Ort wird mit der Einladung mitgeteilt und kann beim Vorstand nachgefragt werden.
URL:https://spd-stadtverband-minden.de/event/vorstand-5/
CATEGORIES:Königstor
END:VEVENT
BEGIN:VEVENT
DTSTART;TZID=Europe/Berlin:20261008T193000
DTEND;TZID=Europe/Berlin:20261008T220000
DTSTAMP:20260419T155954
CREATED:20260325T115503Z
LAST-MODIFIED:20260325T120926Z
UID:17076-1791487800-1791496800@spd-stadtverband-minden.de
SUMMARY:Vorstand (SPD Königstor)
DESCRIPTION:Die Vorstandsitzungen sind für alle Mitglieder offen. Der Ort wird mit der Einladung mitgeteilt und kann beim Vorstand nachgefragt werden.
URL:https://spd-stadtverband-minden.de/event/vorstand-6/
CATEGORIES:Königstor
END:VEVENT
BEGIN:VEVENT
DTSTART;TZID=Europe/Berlin:20261119T193000
DTEND;TZID=Europe/Berlin:20261119T220000
DTSTAMP:20260419T155954
CREATED:20260325T115637Z
LAST-MODIFIED:20260325T115637Z
UID:17079-1795116600-1795125600@spd-stadtverband-minden.de
SUMMARY:Mitgliederversammlung der SPD Königstor
DESCRIPTION:Der Ort wird mit der Einladung mitgeteilt und kann beim Vorstand nachgefragt werden.
URL:https://spd-stadtverband-minden.de/event/mitgliederversammlung-der-spd-koenigstor/
CATEGORIES:Königstor
END:VEVENT
BEGIN:VEVENT
DTSTART;VALUE=DATE:20261128
DTEND;VALUE=DATE:20261129
DTSTAMP:20260419T155954
CREATED:20260325T115741Z
LAST-MODIFIED:20260325T115741Z
UID:17082-1795824000-1795910399@spd-stadtverband-minden.de
SUMMARY:Jubilarehrung der SPD Königstor
DESCRIPTION:Der Ort und die Uhrzeit wird mit der Einladung mitgeteilt und kann beim Vorstand nachgefragt werden.
URL:https://spd-stadtverband-minden.de/event/jubilarehrung-der-spd-koenigstor/
CATEGORIES:Königstor
END:VEVENT
BEGIN:VEVENT
DTSTART;TZID=Europe/Berlin:20261227T193000
DTEND;TZID=Europe/Berlin:20261227T220000
DTSTAMP:20260419T155954
CREATED:20260325T115831Z
LAST-MODIFIED:20260325T120917Z
UID:17085-1798399800-1798408800@spd-stadtverband-minden.de
SUMMARY:Vorstand (SPD Königstor)
DESCRIPTION:Die Vorstandsitzungen sind für alle Mitglieder offen. Der Ort wird mit der Einladung mitgeteilt und kann beim Vorstand nachgefragt werden.
URL:https://spd-stadtverband-minden.de/event/vorstand-7/
CATEGORIES:Königstor
END:VEVENT
BEGIN:VEVENT
DTSTART;VALUE=DATE:20261229
DTEND;VALUE=DATE:20261230
DTSTAMP:20260419T155954
CREATED:20260325T115903Z
LAST-MODIFIED:20260325T120909Z
UID:17088-1798502400-1798588799@spd-stadtverband-minden.de
SUMMARY:Weihnachtsmarkt (Königstor)
DESCRIPTION:
URL:https://spd-stadtverband-minden.de/event/weihnachtsmarkt/
CATEGORIES:Königstor
END:VEVENT
END:VCALENDAR